BEGIN:VCALENDAR
VERSION:2.0
PRODID:-//https://www.ville-breil-sur-roya.fr///NONSGML kigkonsult.se iCalcreator 2.10.15//
METHOD:PUBLISH
BEGIN:VEVENT
UID:20260422T181922CEST-2976cmw4gB@https://www.ville-breil-sur-roya.fr/
DTSTAMP:20260422T161922Z
DESCRIPTION: https://www.ville-breil-sur-roya.fr/agenda-des-manifestations/
 evenement/82-fete-de-la-biere-et-de-la-choucroute.html
DTSTART:20230923T193000Z
DTEND:20230924T020000Z
LOCATION:Sous le chapiteau ( boulevard Rouvier 06540 Breil sur Roya )
SUMMARY:Fête de la bière et de la choucroute
URL:https://www.ville-breil-sur-roya.fr/agenda-des-manifestations/evenement
 /82-fete-de-la-biere-et-de-la-choucroute.html
END:VEVENT
END:VCALENDAR
