BEGIN:VCALENDAR
VERSION:2.0
PRODID:-//https://www.ville-breil-sur-roya.fr///NONSGML kigkonsult.se iCalcreator 2.10.15//
METHOD:PUBLISH
BEGIN:VEVENT
UID:20260424T060620CEST-5685Obsbod@https://www.ville-breil-sur-roya.fr/
DTSTAMP:20260424T040620Z
DESCRIPTION: https://www.ville-breil-sur-roya.fr/agenda-des-manifestations/
 evenement/639-cinema-mauvaise-pioche.html
DTSTART:20260505T183000Z
DTEND:20260505T203000Z
LOCATION:Salle A Ca d'Breï (Place Brancion)
SUMMARY:Cinéma : mauvaise pioche
URL:https://www.ville-breil-sur-roya.fr/agenda-des-manifestations/evenement
 /639-cinema-mauvaise-pioche.html
END:VEVENT
END:VCALENDAR
