BEGIN:VCALENDAR
VERSION:2.0
PRODID:-//https://www.ville-breil-sur-roya.fr///NONSGML kigkonsult.se iCalcreator 2.10.15//
METHOD:PUBLISH
BEGIN:VEVENT
UID:20260423T100239CEST-5083zzoEkE@https://www.ville-breil-sur-roya.fr/
DTSTAMP:20260423T080239Z
DESCRIPTION: https://www.ville-breil-sur-roya.fr/agenda-des-manifestations/
 evenement/638-apero-concert-avec-diego-epicerie-le-passage.html
DTSTART:20260424T180000Z
DTEND:20260424T200000Z
LOCATION:Epicerie le passage ( 1025\, avenue de l’Authion)
SUMMARY:Apéro-concert avec Diego - Epicerie le passage
URL:https://www.ville-breil-sur-roya.fr/agenda-des-manifestations/evenement
 /638-apero-concert-avec-diego-epicerie-le-passage.html
END:VEVENT
END:VCALENDAR
