BEGIN:VCALENDAR
VERSION:2.0
PRODID:-//https://www.ville-breil-sur-roya.fr///NONSGML kigkonsult.se iCalcreator 2.10.15//
METHOD:PUBLISH
BEGIN:VEVENT
UID:20260421T051440CEST-6658lnajTA@https://www.ville-breil-sur-roya.fr/
DTSTAMP:20260421T031440Z
DESCRIPTION: https://www.ville-breil-sur-roya.fr/agenda-des-manifestations/
 evenement/637-soiree-pizza-a-la-maison-des-jeunes.html
DTSTART:20260430T180000Z
DTEND:20260430T220000Z
LOCATION:maison des jeunes (255 boulevard Jean Jaurés 06540 BREIL SUR ROYA)
SUMMARY:Soirée pizza à la maison des jeunes
URL:https://www.ville-breil-sur-roya.fr/agenda-des-manifestations/evenement
 /637-soiree-pizza-a-la-maison-des-jeunes.html
END:VEVENT
END:VCALENDAR
