BEGIN:VCALENDAR
VERSION:2.0
PRODID:-//https://www.ville-breil-sur-roya.fr///NONSGML kigkonsult.se iCalcreator 2.10.15//
METHOD:PUBLISH
BEGIN:VEVENT
UID:20260421T051731CEST-5859OTTEEZ@https://www.ville-breil-sur-roya.fr/
DTSTAMP:20260421T031731Z
DESCRIPTION: https://www.ville-breil-sur-roya.fr/agenda-des-manifestations/
 evenement/636-atelier-jeux-dargent.html
DTSTART:20260430T140000Z
DTEND:20260430T160000Z
LOCATION:maison des jeunes (255 boulevard Jean Jaurés 06540 BREIL SUR ROYA)
SUMMARY:Atelier Jeux d'argent
URL:https://www.ville-breil-sur-roya.fr/agenda-des-manifestations/evenement
 /636-atelier-jeux-dargent.html
END:VEVENT
END:VCALENDAR
