BEGIN:VCALENDAR
VERSION:2.0
PRODID:-//https://www.ville-breil-sur-roya.fr///NONSGML kigkonsult.se iCalcreator 2.10.15//
METHOD:PUBLISH
BEGIN:VEVENT
UID:20260424T200638CEST-1894ceGzRS@https://www.ville-breil-sur-roya.fr/
DTSTAMP:20260424T180638Z
DESCRIPTION:\nPLEIN AIR #5S’immisçant dans des espaces non dévolus à l’art\
 , l’association entre|deux imagine Plein Air\, un festival pluridisciplina
 ire à Breil-sur-Roya.\nPROGRAMME 2025 5e édition :FIL ROUGE. Guillaume Geo
 ffroy alias Pétou vous accueille et vous guide tout au long du week-end\n*
  Restauration / Buvette sur place à partir de 18h avec Stella Pizza\, la B
 rasserie du Mangiabo &amp\; Co\, le conservatoire de la châtaigne et la Be
 lle Verte.\nVENDREDI 5 SEPTEMBRE :\n19h : Impromptu burlesque\, visite dég
 uidée avec la Cie Embrayage à paillettes et des habitant.es de la Vallée\n
 21h : Soirée projection et DJ set rock &amp\; électro avec Cercle rouge\, 
 Rémy Masseglia et Benjamin Fincher\nSAMEDI 6 SEPTEMBRE :\n10h30 : Atelier 
 participatif sur le thème de l'argile avec le musée des Merveilles - place
  Brancion\n14h : Visite guidée du parcours artistique Entre/deux - départ 
 place Brancion\n15H : 'Vagabonds' par la Cie Le Grand Large\, duo clownesq
 ue qui embarque dans des épopées à partir d'un monde fait de pas grand-cho
 se - à l'oliveraie de la porte de Gênes\n15h30 : Sieste musicale en eaux p
 rofondes avec Benoît Berrou - à l'oliveraie de la porte de Gênes\n16h45 : 
 'Vagabonds' par la Cie Le Grand Large\, duo clownesque qui embarque dans d
 es épopées à partir d'un monde fait de pas grand-chose - à l'oliveraie de 
 la porte de Gênes\n18h30 : 'Corps fluides'\, danse collective et participa
 tive sur les multiples facettes de l'eau\, par la Cie Eugénie Andrin &amp\
 ; des habitant.es de la Vallée - au chapiteau\n19h30 : 'Les Baudrières ou 
 Comment grimper grâce aux autres sans se marcher dessus' avec la Cie L'Enc
 ordée. Cirque musical\, vertical et verbal - au bord du lac\n20h30 : Conce
 rt en duo Philippe Gara en duo avec Christelle Bernard\, chanson réaliste 
 - au chapiteau\n22h30 : Concert avec NUX VOMICA\, baleti\, voyages et cult
 ures populaires - au chapiteau\nDIMANCHE 7 SEPTEMBRE :\n11h : Impromptu bu
 rlesque\, visite déguidée avec la Cie Embrayage à paillettes et des habita
 nt.es de la Vallée - Départ place Biancheri\n14h : Visite guidée avec la c
 omplicité des artistes par ENTRE/DEUX - Départ place Brancion\n15h : 'Vaga
 bonds' par la Cie Le Grand Large\, duo clownesque qui embarque dans des ép
 opées à partir d'un monde fait de pas grand-chose - au bord du lac\n15h30 
 : '(M)ondes'\, chant et danse improvisée par la chorale Vallée de choeur e
 t Malou Bonvissuto - au bord du lac\n16h30 : 'Un naufrage et quelques fant
 ômes plus tard'. Théâtre désinstallé\, par la Cie le Navire - au bord du l
 ac\nINSTALLATIONS PLASTIQUES :\n* 'La Mer'\, vidéoprojection par Ange Lecc
 ia - à la chapelle Ste-Catherine\n* 'Vestiges contemporains'\, sculptures 
 amphores en verre\, par Antoine Pierini - à la chapelle de la Miséricorde
 \n* 'Tremper la montagne'\, installation textile collective et poétique\, 
 par Eva Medin et le musée des Merveilles - rue Pasteur / rue de Turin\n* '
 Résonances subaquatiques'\, impression photographique sur tissu par Benoît
  Barbagli - à l'oliveraie de la porte de Gênes\n* 'Saut amoureux'\, impres
 sion photographique sur papier peint par Benoît Barbagli - rue Rouvier / r
 ue Pasteur\n* 'Geste d'amour'\, moulage d'un bras tenant un bouquet de fle
 urs\, par par Benoît Barbagli - promenade Georges Clémenceau\n* 'Equilibre
 s'\, installation de sculptures\, par Charlie Jouan et l'ESAT Le Prieuré -
  au lavoir place Rousse\n* 'Déluge fossile'\, gravure sur carreaux de céra
 mique réalisée dans le cadre du festival Plein Air #2\, par Baptiste César
  - au 84 rue de Turin\n* 'Tempête Alex\, A ce qui a disparu le II X MMXX'\
 , neuf galets de la Roya gravés et dispersés à nouveau durant le festival 
 Plein Air#1 \,\, par Bernard Pagès - Promenade Georges Clémenceau\nA l'occ
 asion du Festival\, des ateliers gratuits avec des artistes en résidence s
 ont proposés\, uniquement sur inscription : 'Visites clownesques' du vendr
 edi 29 au dimanche 31 août\, et 'Danse collaborative' du lundi 25 au jeudi
  28 août 2025.\n https://www.ville-breil-sur-roya.fr/agenda-des-manifestat
 ions/evenement/458-festival-plein-air.html
DTSTART:20250905T170000Z
DTEND:20250907T150000Z
LOCATION:Village et Chapiteau ()
SUMMARY:Festival Plein Air
URL:https://www.ville-breil-sur-roya.fr/agenda-des-manifestations/evenement
 /458-festival-plein-air.html
END:VEVENT
END:VCALENDAR
