BEGIN:VCALENDAR
VERSION:2.0
PRODID:-//https://www.ville-breil-sur-roya.fr///NONSGML kigkonsult.se iCalcreator 2.10.15//
METHOD:PUBLISH
BEGIN:VEVENT
UID:20260422T110645CEST-5678kPUtSg@https://www.ville-breil-sur-roya.fr/
DTSTAMP:20260422T090645Z
DESCRIPTION:Pour mieux comprendre ces lieux hybrides\, partagés\, et conviv
 iaux\, nous vous invitons à une soirée d’échange et de découverte Discussi
 on sur les tiers-lieux de Breil sur Roya\, la Brigue et de Beausoleil avec
  l'Atelier rural en Roya.Lo Recampum\, le village Charlot et le programme 
 'petites villes de demain'.Suivi d'un apéritif dînatoire offert. https://w
 ww.ville-breil-sur-roya.fr/agenda-des-manifestations/evenement/440-rencont
 re-echange-quest-ce-quun-tiers-lieu-quel-role-dans-la-roya.html
DTSTART:20250708T180000Z
DTEND:20250708T230000Z
LOCATION:Salle A Ca d'Breï (Place Brancion)
SUMMARY:Rencontre-échange : qu'est-ce qu'un tiers lieu? Quel rôle dans la R
 oya ?
URL:https://www.ville-breil-sur-roya.fr/agenda-des-manifestations/evenement
 /440-rencontre-echange-quest-ce-quun-tiers-lieu-quel-role-dans-la-roya.htm
 l
END:VEVENT
END:VCALENDAR
